BEGIN:VCALENDAR
VERSION:2.0
PRODID:-//KFNW//Terminliste//DE
CALSCALE:GREGORIAN
METHOD:PUBLISH
BEGIN:VEVENT
UID:kfnw-3021@klimaforum-neu-wulmstorf.de-1777914000
DTSTAMP:20260420T134736Z
DTSTART:20260504T170000Z
SUMMARY:Öffentliches Treffen der Arbeitsgruppe Solarinitiative NW
LOCATION:Caféteria des Familienzentrums (Ernst-Moritz-Arndt-Str. 14\, Neu Wulmstorf\, 1. OG)
END:VEVENT
END:VCALENDAR
