BEGIN:VCALENDAR
VERSION:2.0
PRODID:-//KFNW//Terminliste//DE
CALSCALE:GREGORIAN
METHOD:PUBLISH
BEGIN:VEVENT
UID:kfnw-3025@klimaforum-neu-wulmstorf.de-1785571200
DTSTAMP:20260420T153244Z
DTSTART:20260801T080000Z
DTEND:20260801T110000Z
SUMMARY:Repair-Café
LOCATION:Vereinshaus der Heidesiedler in der Wulmstorfer Str. 96 in Neu Wulmstorf.
END:VEVENT
END:VCALENDAR
