BEGIN:VCALENDAR
VERSION:2.0
PRODID:-//KFNW//Terminliste//DE
CALSCALE:GREGORIAN
METHOD:PUBLISH
BEGIN:VEVENT
UID:kfnw-3026@klimaforum-neu-wulmstorf.de-1776261600
DTSTAMP:20260420T134933Z
DTSTART:20260415T140000Z
DTEND:20260415T170000Z
SUMMARY:Repair-Café
LOCATION:Vereinshaus der Heidesiedler in der Wulmstorfer Str. 96
END:VEVENT
END:VCALENDAR
