BEGIN:VCALENDAR
VERSION:2.0
PRODID:-//KFNW//Terminliste//DE
CALSCALE:GREGORIAN
METHOD:PUBLISH
BEGIN:VEVENT
UID:kfnw-3026@klimaforum-neu-wulmstorf.de-1787148000
DTSTAMP:20260424T085822Z
DTSTART:20260819T140000Z
DTEND:20260819T170000Z
SUMMARY:Repair-Café
LOCATION:Vereinshaus der Heidesiedler in der Wulmstorfer Str. 96
END:VEVENT
END:VCALENDAR
