BEGIN:VCALENDAR
VERSION:2.0
PRODID:-//KFNW//Terminliste//DE
CALSCALE:GREGORIAN
METHOD:PUBLISH
BEGIN:VEVENT
UID:kfnw-3027@klimaforum-neu-wulmstorf.de-1789405200
DTSTAMP:20260420T172020Z
DTSTART:20260914T170000Z
SUMMARY:Öffentliches Treffen der Arbeitsgruppe NW ohne Müll
LOCATION:Caféteria des Familienzentrums (Ernst-Moritz-Arndt-Str. 14\, Neu Wulmstorf\, 1. OG)
END:VEVENT
END:VCALENDAR
