BEGIN:VCALENDAR
VERSION:2.0
PRODID:-//KFNW//Terminliste//DE
CALSCALE:GREGORIAN
METHOD:PUBLISH
BEGIN:VEVENT
UID:kfnw-3028@klimaforum-neu-wulmstorf.de-1787158800
DTSTAMP:20260420T153442Z
DTSTART:20260819T170000Z
SUMMARY:Öffentliches Treffen der Arbeitsgruppe Blühendes Neu Wulmstorf
LOCATION:Caféteria des Familienzentrums (Ernst-Moritz-Arndt-Str. 14\, Neu Wulmstorf\, 1. OG)
END:VEVENT
END:VCALENDAR
