BEGIN:VCALENDAR
VERSION:2.0
PRODID:-//KFNW//Terminliste//DE
CALSCALE:GREGORIAN
METHOD:PUBLISH
BEGIN:VEVENT
UID:kfnw-3030@klimaforum-neu-wulmstorf.de-1784822400
DTSTAMP:20260420T153246Z
DTSTART:20260723T160000Z
SUMMARY:Öffentliches Treffen der Arbeitsgruppe Biogarten Paradies
LOCATION:Cafeteria des Courage
DESCRIPTION:Im Frühjahr\, Sommer und Herbst treffen wir uns fast jedes Wochenende\, meistens Samstags ab 11 Uhr für 2-3 Stunden im Garten. Bei sehr schlechtem Wetter fällt es aus.\n\nZu unserem Planungstreffen am 4. Donnerstag des Monats sind Gäste und Neue ab 18 Uhr willkommen.\n\n&nbsp\;
END:VEVENT
END:VCALENDAR
