BEGIN:VCALENDAR
VERSION:2.0
PRODID:-//KFNW//Terminliste//DE
CALSCALE:GREGORIAN
METHOD:PUBLISH
BEGIN:VEVENT
UID:kfnw-3039@klimaforum-neu-wulmstorf.de-1773478800
DTSTAMP:20260420T134655Z
DTSTART:20260314T090000Z
SUMMARY:NW ohne Müll Müllsammlung der Heidesiedler
LOCATION:Max Geyer Platz
DESCRIPTION:Bitte eigene Handschuhe mitbringen!
END:VEVENT
END:VCALENDAR
