BEGIN:VCALENDAR
VERSION:2.0
PRODID:-//KFNW//Terminliste//DE
CALSCALE:GREGORIAN
METHOD:PUBLISH
BEGIN:VEVENT
UID:kfnw-3040@klimaforum-neu-wulmstorf.de-1776499200
DTSTAMP:20260420T134450Z
DTSTART:20260418T080000Z
DTEND:20260418T120000Z
SUMMARY:Koordinationstreff der KlimaManagerInnen und -initiativen des LK Harburg
LOCATION:Caféteria des Familienzentrums (Ernst-Moritz-Arndt-Str. 14\, Neu Wulmstorf\, 1. OG)
END:VEVENT
END:VCALENDAR
