BEGIN:VCALENDAR
VERSION:2.0
PRODID:-//KFNW//Terminliste//DE
CALSCALE:GREGORIAN
METHOD:PUBLISH
BEGIN:VEVENT
UID:kfnw-3212@klimaforum-neu-wulmstorf.de-1775581200
DTSTAMP:20260420T134916Z
DTSTART:20260407T170000Z
SUMMARY:Öffentliches Treffen der Arbeitsgruppe Solarinitiative NW
LOCATION:Cafeteria des Familienzentrums (Ernst-Moritz-Arndt-Str. 14\, Neu Wulmstorf\, 1.OG)
END:VEVENT
END:VCALENDAR
