BEGIN:VCALENDAR
VERSION:2.0
PRODID:-//KFNW//Terminliste//DE
CALSCALE:GREGORIAN
METHOD:PUBLISH
BEGIN:VEVENT
UID:kfnw-3337@klimaforum-neu-wulmstorf.de-1778594400
DTSTAMP:20260420T134611Z
DTSTART:20260512T140000Z
DTEND:20260512T170000Z
SUMMARY:Repair-Café
LOCATION:Jugendzentrum Blue Star ( E.-M. Arndt Str. 32 in Neu Wulmstorf)
END:VEVENT
END:VCALENDAR
