BEGIN:VCALENDAR
VERSION:2.0
PRODID:-//KFNW//Terminliste//DE
CALSCALE:GREGORIAN
METHOD:PUBLISH
BEGIN:VEVENT
UID:kfnw-3337@klimaforum-neu-wulmstorf.de-1781013600
DTSTAMP:20260420T153219Z
DTSTART:20260609T140000Z
DTEND:20260609T170000Z
SUMMARY:Repair-Café
LOCATION:Jugendzentrum Blue Star ( E.-M. Arndt Str. 32 in Neu Wulmstorf)
END:VEVENT
END:VCALENDAR
