BEGIN:VCALENDAR
VERSION:2.0
PRODID:-//KFNW//Terminliste//DE
CALSCALE:GREGORIAN
METHOD:PUBLISH
BEGIN:VEVENT
UID:kfnw-3337@klimaforum-neu-wulmstorf.de
DTSTAMP:20260420T134255Z
DTSTART:20260414T140000Z
DTEND:20260414T170000Z
RRULE:FREQ=MONTHLY;INTERVAL=1;BYDAY=TU;BYSETPOS=2;UNTIL=20260609T215900Z
SUMMARY:Repair-Café
LOCATION:Jugendzentrum Blue Star ( E.-M. Arndt Str. 32 in Neu Wulmstorf)
END:VEVENT
END:VCALENDAR
