BEGIN:VCALENDAR
VERSION:2.0
PRODID:-//KFNW//Terminliste//DE
CALSCALE:GREGORIAN
METHOD:PUBLISH
BEGIN:VEVENT
UID:kfnw-3459@klimaforum-neu-wulmstorf.de-1777100400
DTSTAMP:20260420T134414Z
DTSTART:20260425T070000Z
DTEND:20260425T120000Z
SUMMARY:Insektenfreundlicher Staudenmarkt
LOCATION:Parkplatz vor dem Courage
END:VEVENT
END:VCALENDAR
